BEGIN:VCALENDAR
VERSION:2.0
PRODID:-//MenoDawn ~ New Era of Menopause Cycle ~ - ECPv6.15.20//NONSGML v1.0//EN
CALSCALE:GREGORIAN
METHOD:PUBLISH
X-WR-CALNAME:MenoDawn ~ New Era of Menopause Cycle ~
X-ORIGINAL-URL:https://menodawn.com
X-WR-CALDESC:Events for MenoDawn ~ New Era of Menopause Cycle ~
REFRESH-INTERVAL;VALUE=DURATION:PT1H
X-Robots-Tag:noindex
X-PUBLISHED-TTL:PT1H
BEGIN:VTIMEZONE
TZID:UTC
BEGIN:STANDARD
TZOFFSETFROM:+0000
TZOFFSETTO:+0000
TZNAME:UTC
DTSTART:20240101T000000
END:STANDARD
END:VTIMEZONE
BEGIN:VEVENT
DTSTART;VALUE=DATE:20251115
DTEND;VALUE=DATE:20251117
DTSTAMP:20260422T142900
CREATED:20250917T104717Z
LAST-MODIFIED:20250917T104717Z
UID:3176-1763164800-1763337599@menodawn.com
SUMMARY:🌸 Menodawn – A Tantric Approach in Menopause 🌸 ✨ For the first time in Bulgaria ✨
DESCRIPTION:📅 15 and 16 November 2025\n🕙 10:00 to 19:00 both days\nTaught in English with Bulgarian translation\n\nMenodawn is the meeting of two words: meno for menopause and dawn for a new sunrise. It invites women to experience this time as an opening into a new way of living\, full of presence\, wisdom\, and celebration.\nWhat is Tantra\nTantra is an ancient path that embraces the wholeness of life. It is a way of being that sees the body\, mind\, energy\, and spirit as sacred expressions of the same life force. Rather than separating the spiritual from the physical\, Tantra teaches integration. It invites us to live fully in the present moment\, to honor the cycles of nature\, and to awaken our inner vitality through awareness\, breath\, movement\, and connection.\nWhy Tantra for Menopause\nMenopause is a natural passage and Tantra offers tools to meet it with openness and curiosity. It brings practices that cultivate sensitivity\, sensuality\, and presence. Through meditation\, ritual\, breathwork\, and embodied awareness\, Tantra helps women discover the unique power and freedom of this stage of life. It is a path that welcomes change as an expansion and supports the unfolding of a deeper feminine essence.\nThe Two Day Journey\nDuring these two days you will be guided into tantric and holistic practices created especially for the time of menopause. At Menodawn you will enter a circle of women and together we will:\n🌺 Honor the ancient rhythm of change through ritual and ceremony\n🌺 Awaken the body with tantric practices of movement\, touch\, and breath\n🌺 Discover the fire of sensuality as a source of joy and creativity\n🌺 Rest into the depth of feminine wisdom that emerges in this life cycle\n\nThis gathering is an invitation to walk the tantric path during menopause\, to meet yourself with reverence\, and to celebrate the dawn of a new chapter of life. An open invitation to women of every age. Menopause touches us all\, and the earlier we begin to meet it with awareness\, the more gracefully we can walk through its path.\n\n🎟 Seats are limited. Enter the circle of Menodawn and let the sunrise within you.\n\n\nInfo: office@adelinayogaart.com
URL:https://menodawn.com/event/%f0%9f%8c%b8-menodawn-a-tantric-approach-in-menopause-%f0%9f%8c%b8-%e2%9c%a8-for-the-first-time-in-bulgaria-%e2%9c%a8/
CATEGORIES:Europe
ATTACH;FMTTYPE=image/jpeg:https://menodawn.com/wp-content/uploads/2025/09/menopause-workshop.jpg
END:VEVENT
BEGIN:VEVENT
DTSTART;VALUE=DATE:20250926
DTEND;VALUE=DATE:20250930
DTSTAMP:20260422T142900
CREATED:20250917T103757Z
LAST-MODIFIED:20250917T104425Z
UID:3166-1758844800-1759190399@menodawn.com
SUMMARY:Tachyon Vertical Reality - Level 1
DESCRIPTION:Tachyon Vertical Reality – Level 1\nDiscover the Revolutionary Method That Transforms Ego-Based Living into Divine Flow \n🏝 Bali | 26th – 29th Sept\, 2025\nTaught in English with Chinese translations \nWhat you will experience…\nDive into our in-depth workshops and lectures on Tachyon energy principles and applications.\nHands-on demonstrations and experiential exercises to deepen your understanding of Tachyon energy.\nYou’ll receive a Tachyonized Vortex crystal pendant that establishes and maintains a vertical flow of energy throughout your chakra system\, facilitating alignment with source. Any disharmonies or stagnations in your energetic system will naturally surface\, and the course will equip you with techniques to release them easily.\nGain valuable knowledge and tools to integrate Tachyon energy into your personal and professional life.\nConnect with a vibrant community of fellow healers – a collective powerhouse where ideas flow\, experiences are shared\, and exponential growth is the norm. \nReserve your Seat\nhttps://www.anandasarita.com/tachyon-level-1
URL:https://menodawn.com/event/tachyon-vertical-reality-level-1/
CATEGORIES:Bali
ATTACH;FMTTYPE=image/jpeg:https://menodawn.com/wp-content/uploads/2025/09/Tachyon-Vertical-Reality-Level-1.jpeg
END:VEVENT
BEGIN:VEVENT
DTSTART;VALUE=DATE:20250919
DTEND;VALUE=DATE:20250926
DTSTAMP:20260422T142900
CREATED:20250917T101741Z
LAST-MODIFIED:20250917T104404Z
UID:3148-1758240000-1758844799@menodawn.com
SUMMARY:Goddess Essence Retreat
DESCRIPTION:Rediscover your inner divine feminine and live a life full of love and fulfilment\nIn this edition\, we are going to explore parts 3 & 4 of the series… \nNote: The series is designed in such a way that you can join any part of the series in any order! Whether you’ve attended Part 1\, 2 or not\, you are warmly welcomed to immerse yourself in the magic of this edition. \n\n\n\nPart 3:  Woman as Healers: The Power of Intuition\nIn this edition\, we will embrace the innate healing power and intuition of the feminine spirit. By releasing old fears and conditioning\, we will reconnect with the deep\, eternal wisdom of womanhood. You’ll learn to harness your intuition as a guiding force\, aligning your life with your soul’s true path. We focus on awakening your third eye\, enhancing self-expression\, creativity\, and tapping into your psychic gifts. This journey is not just about learning; it’s about transformation and embodying spiritual experiences. In the company of other women\, you’ll find strength and nourishment\, healing hidden aspects of yourself. This module is a holistic blend of ancient Tantra and modern insights\, harmonizing body\, heart\, mind\, and soul. \nPart 4 : The Power of the Embodied Goddess\nExperience a new access to your crown chakra. Recognize\, accept and live your full potential on all levels as a woman. It is the greatest gift you can give yourself\, your family\, your community and the whole world. But\, …What does the path of awakening look like for women? …What does your own personal path look like? …How do you embody your divine essence?\nThe path of feminine spirituality and the path to enlightenment for women is initiated by the power of love\, surrender and deep compassion; nurtured by deep sexual ecstasy and a natural flow of our emotions; guided by a deep trust in our intuition and guided by our inner voice. When we are connected to these deeply feminine qualities within us and around us\, we begin to experience life with ease\, in true fulfillment and oneness with all that is. \nReserve your Seat\nhttps://www.anandasarita.com/events/goddess-essence-retreat-bali
URL:https://menodawn.com/event/goddess-essence-retreat/
CATEGORIES:Bali
ATTACH;FMTTYPE=image/jpeg:https://menodawn.com/wp-content/uploads/2025/09/Goddess-Essence-Retreat.jpg
END:VEVENT
END:VCALENDAR