BEGIN:VCALENDAR
VERSION:2.0
PRODID:-//MenoDawn ~ New Era of Menopause Cycle ~ - ECPv6.15.20//NONSGML v1.0//EN
CALSCALE:GREGORIAN
METHOD:PUBLISH
X-ORIGINAL-URL:https://menodawn.com
X-WR-CALDESC:Events for MenoDawn ~ New Era of Menopause Cycle ~
REFRESH-INTERVAL;VALUE=DURATION:PT1H
X-Robots-Tag:noindex
X-PUBLISHED-TTL:PT1H
BEGIN:VTIMEZONE
TZID:UTC
BEGIN:STANDARD
TZOFFSETFROM:+0000
TZOFFSETTO:+0000
TZNAME:UTC
DTSTART:20250101T000000
END:STANDARD
END:VTIMEZONE
BEGIN:VEVENT
DTSTART;VALUE=DATE:20260214
DTEND;VALUE=DATE:20260308
DTSTAMP:20260419T145817
CREATED:20260109T072402Z
LAST-MODIFIED:20260109T072717Z
UID:3417-1771027200-1772927999@menodawn.com
SUMMARY:Goddess Essence Teacher Training
DESCRIPTION:Become a Certified Women’s Tantra Teacher\nAn immersive Tantra training for Women ready to embody divine feminine wisdom and guide others on the path of love\, power\, and transformation. \n🏝 Bali 🗓 Feb 14th – 7th Mar\, 2026 \n \nIntroducing the Goddess Essence Teacher Training Program…\nThe Goddess Essence Teacher Training Program stands as a beacon of excellence in the realm of Women’s Tantra education. It is a meticulously curated journey\, designed to be the most profound and comprehensive teacher training available in this sacred art. \nCentral to our program is a curriculum that seamlessly weaves the timeless wisdom of Women’s Tantra with contemporary insights from holistic healing and personal development. Our mission is to offer an immersive experience that transcends mere techniques\, guiding you into the very heart of transformative teaching. \nWe believe that Tantra is more than just a set of practices; it’s a holistic pathway to empowerment\, self-discovery\, and spiritual growth. For women\, it represents a harmonious blend of spirituality\, femininity and conscious living\, touching every facet of our existence. \nWith this guiding philosophy\, we’ve sculpted a curriculum that celebrates the diverse tapestry of Women’s Tantra. It draws inspiration from ancient rituals\, modern therapeutic insights and hands-on applications\, ensuring a well-rounded and deeply enriching learning experience. \nAs you journey through this training\, you’ll delve into the psychology and essence of Tantra\, specifically tailored for women. Beyond personal transformation\, you’ll understand how to harness its transformative effects to inspire and guide others as a teacher and a coach.✨ \nhttps://www.anandasarita.com/goddess-essence-teacher-training
URL:https://menodawn.com/event/goddess-essence-teacher-training/
CATEGORIES:Bali
END:VEVENT
END:VCALENDAR