BEGIN:VCALENDAR
VERSION:2.0
PRODID:-//MenoDawn ~ New Era of Menopause Cycle ~ - ECPv6.15.20//NONSGML v1.0//EN
CALSCALE:GREGORIAN
METHOD:PUBLISH
X-WR-CALNAME:MenoDawn ~ New Era of Menopause Cycle ~
X-ORIGINAL-URL:https://menodawn.com
X-WR-CALDESC:Events for MenoDawn ~ New Era of Menopause Cycle ~
REFRESH-INTERVAL;VALUE=DURATION:PT1H
X-Robots-Tag:noindex
X-PUBLISHED-TTL:PT1H
BEGIN:VTIMEZONE
TZID:UTC
BEGIN:STANDARD
TZOFFSETFROM:+0000
TZOFFSETTO:+0000
TZNAME:UTC
DTSTART:20250101T000000
END:STANDARD
END:VTIMEZONE
BEGIN:VEVENT
DTSTART;VALUE=DATE:20260517
DTEND;VALUE=DATE:20260522
DTSTAMP:20260421T081644
CREATED:20260331T191232Z
LAST-MODIFIED:20260331T192112Z
UID:3442-1778976000-1779407999@menodawn.com
SUMMARY:Menodawn 2026 Bali
DESCRIPTION:A Tantric Approach to Menopause\n17 – 21 May 2026\nBagus Jati · Ubud\, Bali\nWomen of All Ages · 5 Days\nWhat is Menodawn?\n\n\n\n  \n  \n  \n  \n  \n  \n  \n  \n  \n  \n  \n  \n  \n  \nMenodawn is an immersive 5-day tantric retreat for women navigating perimenopause and menopause\, held in the sacred heart of Ubud\, Bali.\nIt is a gathering unlike any other: part ceremony\, part somatic healing\, part sisterhood. It treats this profound transition not as a medical condition to manage\, but as a spiritual initiation to be celebrated. \nDrawing on Tantric practices\, Taoist wisdom\, Ayurvedic medicine\, and Breathwork\, Menodawn invites women from around the world to move\, breathe\, release\, and be reborn together — in one of Earth’s most spiritually charged places. \nYour New Dawn Awaits\nReserve your sacred place\nSpaces are intentionally limited to preserve the intimacy and depth of this experience. Express your interest to receive full details\, pricing\, and next steps. \nEXPRESS INTEREST
URL:https://menodawn.com/event/menodawn-2026-bali/
END:VEVENT
END:VCALENDAR